BEGIN:VCALENDAR
VERSION:2.0
PRODID:-//Methodist University - ECPv6.15.11//NONSGML v1.0//EN
CALSCALE:GREGORIAN
METHOD:PUBLISH
X-WR-CALNAME:Methodist University
X-ORIGINAL-URL:https://www.methodist.edu
X-WR-CALDESC:Events for Methodist University
REFRESH-INTERVAL;VALUE=DURATION:PT1H
X-Robots-Tag:noindex
X-PUBLISHED-TTL:PT1H
BEGIN:VTIMEZONE
TZID:America/New_York
BEGIN:DAYLIGHT
TZOFFSETFROM:-0500
TZOFFSETTO:-0400
TZNAME:EDT
DTSTART:20250309T070000
END:DAYLIGHT
BEGIN:STANDARD
TZOFFSETFROM:-0400
TZOFFSETTO:-0500
TZNAME:EST
DTSTART:20251102T060000
END:STANDARD
BEGIN:DAYLIGHT
TZOFFSETFROM:-0500
TZOFFSETTO:-0400
TZNAME:EDT
DTSTART:20260308T070000
END:DAYLIGHT
BEGIN:STANDARD
TZOFFSETFROM:-0400
TZOFFSETTO:-0500
TZNAME:EST
DTSTART:20261101T060000
END:STANDARD
BEGIN:DAYLIGHT
TZOFFSETFROM:-0500
TZOFFSETTO:-0400
TZNAME:EDT
DTSTART:20270314T070000
END:DAYLIGHT
BEGIN:STANDARD
TZOFFSETFROM:-0400
TZOFFSETTO:-0500
TZNAME:EST
DTSTART:20271107T060000
END:STANDARD
END:VTIMEZONE
BEGIN:VEVENT
DTSTART;TZID=America/New_York:20261204T100000
DTEND;TZID=America/New_York:20261204T113000
DTSTAMP:20260419T110752
CREATED:20260108T200900Z
LAST-MODIFIED:20260108T200900Z
UID:36372-1796378400-1796383800@www.methodist.edu
SUMMARY:Physician Assistant Program White Coat Ceremony
DESCRIPTION:A ceremony recognizing the achievements of the Physician Assistant Program Class of 2027.
URL:https://www.methodist.edu/event/physician-assistant-program-white-coat-ceremony/
LOCATION:Huff Concert Hall\, Reeves Fine Arts Complex\, Methodist University
CATEGORIES:Academic Events,Open to the Public
END:VEVENT
END:VCALENDAR